BEGIN:VCALENDAR
VERSION:2.0
PRODID:-//VOKUS - ECPv6.15.20//NONSGML v1.0//EN
CALSCALE:GREGORIAN
METHOD:PUBLISH
X-WR-CALNAME:VOKUS
X-ORIGINAL-URL:https://www.vokus.eu
X-WR-CALDESC:Veranstaltungen für VOKUS
REFRESH-INTERVAL;VALUE=DURATION:PT1H
X-Robots-Tag:noindex
X-PUBLISHED-TTL:PT1H
BEGIN:VTIMEZONE
TZID:Europe/Berlin
BEGIN:DAYLIGHT
TZOFFSETFROM:+0100
TZOFFSETTO:+0200
TZNAME:CEST
DTSTART:20250330T010000
END:DAYLIGHT
BEGIN:STANDARD
TZOFFSETFROM:+0200
TZOFFSETTO:+0100
TZNAME:CET
DTSTART:20251026T010000
END:STANDARD
BEGIN:DAYLIGHT
TZOFFSETFROM:+0100
TZOFFSETTO:+0200
TZNAME:CEST
DTSTART:20260329T010000
END:DAYLIGHT
BEGIN:STANDARD
TZOFFSETFROM:+0200
TZOFFSETTO:+0100
TZNAME:CET
DTSTART:20261025T010000
END:STANDARD
BEGIN:DAYLIGHT
TZOFFSETFROM:+0100
TZOFFSETTO:+0200
TZNAME:CEST
DTSTART:20270328T010000
END:DAYLIGHT
BEGIN:STANDARD
TZOFFSETFROM:+0200
TZOFFSETTO:+0100
TZNAME:CET
DTSTART:20271031T010000
END:STANDARD
END:VTIMEZONE
BEGIN:VEVENT
DTSTART;TZID=Europe/Berlin:20260411T200000
DTEND;TZID=Europe/Berlin:20260411T220000
DTSTAMP:20260420T153820
CREATED:20260402T091006Z
LAST-MODIFIED:20260402T091006Z
UID:10004257-1775937600-1775944800@www.vokus.eu
SUMMARY:Never traveling alone
DESCRIPTION:Eine lyrisch-musikalische Zeitreise \nDie Schauspielerin Karla Andrä tritt zusammen mit den Musikerinnen Anna Holzhauser und Julia Kellner eine genussvolle Reise in die schillernde\, ambivalente und komplexe Musik- und Lyrikwelt der Frauen an. In einer lyrisch-musikalischen Zeitreise wird an begnadete Musikerinnen – wie Ella Fitzgerald oder die tiefsinnige Billie Holiday – ebenso erinnert wie an die eigensinnige Billie Eilish oder Dota Kehr. Auch erklingen Eigenkompositionen von Anna Holzhauser. Zudem kommen viele Poetinnen zu Wort.\nAlso\, lassen Sie uns miteinander reisen in diese besondere Welt! \nAnna Holzhauser (Gesang\, Piano)\,\nKarla Andrä (Sprache)\,\nJulia Kellner (Baritonsaxofon\, Bassklarinette) \nEinlass: 19:30 Uhr \nEintrittspreis: 18 €\, bis 16 Jahre 10 €
URL:https://www.vokus.eu/termine/never-traveling-alone/
LOCATION:Museum und Galerie der Stadt Schwabmünchen\, Holzheystraße 12\, Schwabmünchen\, Bayern\, 86830\, Deutschland
CATEGORIES:Musikkonzerte/Festivals
ATTACH;FMTTYPE=image/jpeg:https://www.vokus.eu/wp-content/uploads/Bild-fuer-Werbung_klein-2048x1151-1.jpg
ORGANIZER;CN="Kulturb%C3%BCro Schwabm%C3%BCnchen":MAILTO:d.hafner@schwabmuenchen.de
GEO:48.18079;10.76096
X-APPLE-STRUCTURED-LOCATION;VALUE=URI;X-ADDRESS=Museum und Galerie der Stadt Schwabmünchen Holzheystraße 12 Schwabmünchen Bayern 86830 Deutschland;X-APPLE-RADIUS=500;X-TITLE=Holzheystraße 12:geo:10.76096,48.18079
END:VEVENT
END:VCALENDAR