BEGIN:VCALENDAR
VERSION:2.0
PRODID:-//VOKUS - ECPv6.15.20//NONSGML v1.0//EN
CALSCALE:GREGORIAN
METHOD:PUBLISH
X-WR-CALNAME:VOKUS
X-ORIGINAL-URL:https://www.vokus.eu
X-WR-CALDESC:Veranstaltungen für VOKUS
REFRESH-INTERVAL;VALUE=DURATION:PT1H
X-Robots-Tag:noindex
X-PUBLISHED-TTL:PT1H
BEGIN:VTIMEZONE
TZID:Europe/Berlin
BEGIN:DAYLIGHT
TZOFFSETFROM:+0100
TZOFFSETTO:+0200
TZNAME:CEST
DTSTART:20250330T010000
END:DAYLIGHT
BEGIN:STANDARD
TZOFFSETFROM:+0200
TZOFFSETTO:+0100
TZNAME:CET
DTSTART:20251026T010000
END:STANDARD
BEGIN:DAYLIGHT
TZOFFSETFROM:+0100
TZOFFSETTO:+0200
TZNAME:CEST
DTSTART:20260329T010000
END:DAYLIGHT
BEGIN:STANDARD
TZOFFSETFROM:+0200
TZOFFSETTO:+0100
TZNAME:CET
DTSTART:20261025T010000
END:STANDARD
BEGIN:DAYLIGHT
TZOFFSETFROM:+0100
TZOFFSETTO:+0200
TZNAME:CEST
DTSTART:20270328T010000
END:DAYLIGHT
BEGIN:STANDARD
TZOFFSETFROM:+0200
TZOFFSETTO:+0100
TZNAME:CET
DTSTART:20271031T010000
END:STANDARD
END:VTIMEZONE
BEGIN:VEVENT
DTSTART;TZID=Europe/Berlin:20260415T193000
DTEND;TZID=Europe/Berlin:20260415T210000
DTSTAMP:20260421T141612
CREATED:20260109T101756Z
LAST-MODIFIED:20260109T101756Z
UID:10004243-1776281400-1776286800@www.vokus.eu
SUMMARY:Darmspiegelung: Krebsvorsorge  - nebenbei im Schlaf
DESCRIPTION:Darmkrebs gehört zu den häufigsten Krebserkrankungen in Deutschland – doch die gute Nachricht ist: Er lässt sich in vielen Fällen frühzeitig erkennen und erfolgreich behandeln. Dabei spielt die Darmspiegelung eine entscheidende Rolle. Sie ist die beste Methode\, um das oft familiär bedingte Risiko zu minimieren und das ganz nebenbei im Schlaf. Professor Dr. Andreas Weber informiert über den Ablauf und die Wirksamkeit der Vorsorge\, das familiäre Risiko und das bayernweite Modellprojekt FARKOR. \nReferent: Professor Dr. Andreas Weber\, Chefarzt der Gastroenterologie der Wertachkliniken
URL:https://www.vokus.eu/termine/darmspiegelung-krebsvorsorge-nebenbei-im-schlaf/
LOCATION:Singoldhalle\, Willi-Ohlendorf-Weg 1\, Bobingen\, 86399\, Deutschland
CATEGORIES:Vorträge
ATTACH;FMTTYPE=image/jpeg:https://www.vokus.eu/wp-content/uploads/Weber-Andreas-Prof-Dr-Fotograf_Matthias_Baumgartner-scaled-e1776171957118.jpg
GEO:48.2683518;10.8236837
X-APPLE-STRUCTURED-LOCATION;VALUE=URI;X-ADDRESS=Singoldhalle Willi-Ohlendorf-Weg 1 Bobingen 86399 Deutschland;X-APPLE-RADIUS=500;X-TITLE=Willi-Ohlendorf-Weg 1:geo:10.8236837,48.2683518
END:VEVENT
BEGIN:VEVENT
DTSTART;TZID=Europe/Berlin:20260311T193000
DTEND;TZID=Europe/Berlin:20260311T210000
DTSTAMP:20260421T141612
CREATED:20260109T100721Z
LAST-MODIFIED:20260109T100943Z
UID:10004242-1773257400-1773262800@www.vokus.eu
SUMMARY:Kardiologische Vorsorge reduziert Herzinfarkt- und Schlaganfall-Risiko
DESCRIPTION:Ein regelmäßiger Check-up beim Hausarzt kann Leben retten\, weil zwei Risikofaktoren\, die alle Herz-Kreislauferkrankungen betreffen\, gut behandelbar sind. Man muss sie jedoch rechtzeitig entdecken: den Bluthochdruck und die Fettstoffwechselstörungen\, insbesondere den erhöhten Cholesterinwert. Herr Dr. Sellier erklärt\, warum das so wichtig ist und was man dafür tun muss. \nReferent: Dr. Anselm Sellier\, Chefarzt der Kardiologie der Wertachkliniken \n 
URL:https://www.vokus.eu/termine/kardiologische-vorsorge-reduziert-herzinfarkt-und-schlaganfall-risiko/
LOCATION:Bürgerservicezentrum Königsbrunn (Vortragsraum)\, Marktstraße 3 a\, Königsbrunn\, 86343
CATEGORIES:Vorträge
ATTACH;FMTTYPE=image/jpeg:https://www.vokus.eu/wp-content/uploads/Sellier_neu.jpeg
END:VEVENT
BEGIN:VEVENT
DTSTART;TZID=Europe/Berlin:20260211T193000
DTEND;TZID=Europe/Berlin:20260211T210000
DTSTAMP:20260421T141612
CREATED:20250702T124949Z
LAST-MODIFIED:20250702T124949Z
UID:10004147-1770838200-1770843600@www.vokus.eu
SUMMARY:ARZTVORTRAG:  Divertikel im Dickdarm - meist findet man sie im Sigma
DESCRIPTION:Divertikel sind Ausstülpungen in der Schleimhaut. Jeder zweite über 70-Jährige hat Divertikel im seinem Dickdarm; meist im Sigma\, dem letzten Teil des Dickdarms. Und meist sind sie harmlos. Aber wenn sie sich entzünden\, kann das sehr unangenehm werden\, bis hin zu einer lebensgefährlichen Blutvergiftung. Deshalb informiert Herr Dr. Schöler über die Symptome. Er sagt\, wann man auf jeden Fall zum Arzt gehen sollte. Und er erklärt auch\, welche Möglichkeiten der Behandlung es gibt. \nReferent:\nDr. Claus Schöler\, Chefarzt der Allgemein- und Viszeralchirurgie der Wertachklinik in Schwabmünchen
URL:https://www.vokus.eu/termine/arztvortrag-divertikel-im-dickdarm-meist-findet-man-sie-im-sigma/
LOCATION:Ferdinand-Wagner-Saal\, Fuggerstraße 20\, Schwabmünchen\, Bayern\, 86830\, Deutschland
CATEGORIES:Vorträge
GEO:48.18108;10.75806
X-APPLE-STRUCTURED-LOCATION;VALUE=URI;X-ADDRESS=Ferdinand-Wagner-Saal Fuggerstraße 20 Schwabmünchen Bayern 86830 Deutschland;X-APPLE-RADIUS=500;X-TITLE=Fuggerstraße 20:geo:10.75806,48.18108
END:VEVENT
BEGIN:VEVENT
DTSTART;TZID=Europe/Berlin:20260121T193000
DTEND;TZID=Europe/Berlin:20260121T210000
DTSTAMP:20260421T141612
CREATED:20250702T124654Z
LAST-MODIFIED:20260112T131554Z
UID:10004146-1769023800-1769029200@www.vokus.eu
SUMMARY:ABGESAGT !!! ARZTVORTRAG – Krumme Zehen sind nicht nur ein kosmetisches Problem
DESCRIPTION:Wir belasten unsere Füße jeden Tag\, bei jedem Schritt. Aber wir nehmen sie meist erst zur Kenntnis\, wenn sie Probleme bereiten. Wer Schmerzen hat oder Bewegungseinschränkungen beobachtet\, sollte zeitnah zum Arzt gehen. Denn je früher man mit einer konservativen Therapie beginnt\, desto größer sind die Erfolgsaussichten. Leitender Oberarzt Herr Rafiee-Tary erklärt aber auch\, wann und warum eine Operation notwendig sein kann und welche Folgeschäden drohen\, wenn man nichts unternimmt. \nReferent:\nHoman Rafiee-Tary\, Leitender Oberarzt der Unfall- und orthopädischen Chirurgie der Wertachkliniken in Bobingen
URL:https://www.vokus.eu/termine/arztvortrag-krumme-zehen-sind-nicht-nur-ein-kosmetisches-problem/
LOCATION:Singoldhalle\, Willi-Ohlendorf-Weg 1\, Bobingen\, 86399\, Deutschland
CATEGORIES:Vorträge
GEO:48.2683518;10.8236837
X-APPLE-STRUCTURED-LOCATION;VALUE=URI;X-ADDRESS=Singoldhalle Willi-Ohlendorf-Weg 1 Bobingen 86399 Deutschland;X-APPLE-RADIUS=500;X-TITLE=Willi-Ohlendorf-Weg 1:geo:10.8236837,48.2683518
END:VEVENT
END:VCALENDAR