BEGIN:VCALENDAR
VERSION:2.0
PRODID:-//VOKUS - ECPv6.15.20//NONSGML v1.0//EN
CALSCALE:GREGORIAN
METHOD:PUBLISH
X-WR-CALNAME:VOKUS
X-ORIGINAL-URL:https://www.vokus.eu
X-WR-CALDESC:Veranstaltungen für VOKUS
REFRESH-INTERVAL;VALUE=DURATION:PT1H
X-Robots-Tag:noindex
X-PUBLISHED-TTL:PT1H
BEGIN:VTIMEZONE
TZID:Europe/Berlin
BEGIN:DAYLIGHT
TZOFFSETFROM:+0100
TZOFFSETTO:+0200
TZNAME:CEST
DTSTART:20250330T010000
END:DAYLIGHT
BEGIN:STANDARD
TZOFFSETFROM:+0200
TZOFFSETTO:+0100
TZNAME:CET
DTSTART:20251026T010000
END:STANDARD
BEGIN:DAYLIGHT
TZOFFSETFROM:+0100
TZOFFSETTO:+0200
TZNAME:CEST
DTSTART:20260329T010000
END:DAYLIGHT
BEGIN:STANDARD
TZOFFSETFROM:+0200
TZOFFSETTO:+0100
TZNAME:CET
DTSTART:20261025T010000
END:STANDARD
BEGIN:DAYLIGHT
TZOFFSETFROM:+0100
TZOFFSETTO:+0200
TZNAME:CEST
DTSTART:20270328T010000
END:DAYLIGHT
BEGIN:STANDARD
TZOFFSETFROM:+0200
TZOFFSETTO:+0100
TZNAME:CET
DTSTART:20271031T010000
END:STANDARD
END:VTIMEZONE
BEGIN:VEVENT
DTSTART;TZID=Europe/Berlin:20260617T193000
DTEND;TZID=Europe/Berlin:20260617T210000
DTSTAMP:20260421T125500
CREATED:20260109T104001Z
LAST-MODIFIED:20260109T104001Z
UID:10004246-1781724600-1781730000@www.vokus.eu
SUMMARY:Hämorrhoiden! Was tun?
DESCRIPTION:Beschwerden im Analbereich\, also beispielsweise Jucken\, Nässen\, Brennen und Blutungen\, treten sehr häufig auf und sind meist gut behandelbar. Deshalb sollte man ohne Scham zum Arzt gehen. Denn nicht immer sind Hämorrhoiden die Ursache der Beschwerden. Frau Dr. Eisenbach informiert über verschiedene Erkrankungen im Analbereich\, z. B. dem Hämorrhoidalleiden und welche Möglichkeiten der Behandlung es gibt. \nReferentin: Dr. Joanna Eisenbach\, Leitende Oberärztin der Allgemein- und Viszeralchirurgie der Wertachkliniken
URL:https://www.vokus.eu/termine/haemorrhoiden-was-tun/
LOCATION:Singoldhalle\, Willi-Ohlendorf-Weg 1\, Bobingen\, 86399\, Deutschland
CATEGORIES:Vorträge
ATTACH;FMTTYPE=image/jpeg:https://www.vokus.eu/wp-content/uploads/Eisenbach_neu_Fotograf-ThomasKiehl.jpg
GEO:48.2683518;10.8236837
X-APPLE-STRUCTURED-LOCATION;VALUE=URI;X-ADDRESS=Singoldhalle Willi-Ohlendorf-Weg 1 Bobingen 86399 Deutschland;X-APPLE-RADIUS=500;X-TITLE=Willi-Ohlendorf-Weg 1:geo:10.8236837,48.2683518
END:VEVENT
END:VCALENDAR